BEGIN:VCALENDAR
VERSION:2.0
PRODID:-//Squarespace Inc/Squarespace 6//v6//EN
BEGIN:VEVENT
UID:5dd0bd5401bff5552db0d699@squarespace.com
DTSTAMP:20200123T061429Z
DTSTART:20200202T003000Z
DTEND:20200202T063000Z
SUMMARY:Year of the Novel with Melissa Ashley
GEO:-27.471163;153.018113
LOCATION:Queensland Writers Centre\, Level 2 State Library of Queensland\, 
 South Brisbane\, Australia
END:VEVENT
END:VCALENDAR
