BEGIN:VCALENDAR
VERSION:2.0
PRODID:-//Squarespace Inc/Squarespace 6//v6//EN
BEGIN:VEVENT
UID:5dc268d90976cb1857b05599@squarespace.com
DTSTAMP:20191114T020059Z
DTSTART:20191109T033000Z
DTEND:20191109T063000Z
SUMMARY:LIVE STREAM: Writing To Save The Planet with Jessica White and Aman
 da Niehaus 
END:VEVENT
END:VCALENDAR
