BEGIN:VCALENDAR
VERSION:2.0
PRODID:-//Squarespace Inc/Squarespace 6//v6//EN
BEGIN:VEVENT
UID:5df07a62b683290241462e30@squarespace.com
DTSTAMP:20191211T063527Z
DTSTART:20200221T233000Z
DTEND:20200222T023000Z
SUMMARY:Writing Memoir
GEO:-27.241154;152.421575
LOCATION:Esk Library\, 19 Heap St\, Esk\, Australia
END:VEVENT
END:VCALENDAR
