BEGIN:VCALENDAR
VERSION:2.0
PRODID:-//Squarespace Inc/Squarespace 6//v6//EN
BEGIN:VEVENT
UID:5df6f27403e32e5334b07023@squarespace.com
DTSTAMP:20191216T030042Z
DTSTART:20200221T000000Z
DTEND:20200221T060000Z
SUMMARY:Writing Friday
GEO:-27.471163;153.018113
LOCATION:Queensland Writers Centre\, Level 2 State Library Queensland\, Sou
 th Brisbane\, Australia
END:VEVENT
END:VCALENDAR
