BEGIN:VCALENDAR
VERSION:2.0
PRODID:-//Squarespace Inc/Squarespace 6//v6//EN
BEGIN:VEVENT
UID:5df0617bb022294159a12dba@squarespace.com
DTSTAMP:20191211T032512Z
DTSTART:20200214T000000Z
DTEND:20200214T060000Z
SUMMARY:Writing Friday
GEO:-27.471163;153.018113
LOCATION:Queensland Writers Centre\, Level 2 State Library Queensland\, Sou
 th Brisbane\, Australia
END:VEVENT
END:VCALENDAR
