BEGIN:VCALENDAR
VERSION:2.0
PRODID:-//Squarespace Inc/Squarespace 6//v6//EN
BEGIN:VEVENT
UID:5df051fdad109f6d8b66ddc5@squarespace.com
DTSTAMP:20191211T025806Z
DTSTART:20191213T000000Z
DTEND:20191213T060000Z
SUMMARY:Writing Friday
GEO:-27.471163;153.018113
LOCATION:Queensland Writers Centre\, Level 2 State Library Queensland\, Sou
 th Brisbane\, Australia
END:VEVENT
END:VCALENDAR
