BEGIN:VCALENDAR
VERSION:2.0
PRODID:-//Squarespace Inc/Squarespace 6//v6//EN
BEGIN:VEVENT
UID:5df06f58bfd22d2992f600ec@squarespace.com
DTSTAMP:20191211T064257Z
DTSTART:20200208T040000Z
DTEND:20200208T053000Z
SUMMARY:The Business of Writing
GEO:-27.611133;153.119264
LOCATION:Logan North Library\, Corner Sports Drive and Springwood Rd\, Unde
 rwood\, Australia
END:VEVENT
END:VCALENDAR
