BEGIN:VCALENDAR
VERSION:2.0
PRODID:-//Squarespace Inc/Squarespace 6//v6//EN
BEGIN:VEVENT
UID:5dd2125f6ad8ea66150d9ae4@squarespace.com
DTSTAMP:20200211T002704Z
DTSTART:20200215T003000Z
DTEND:20200215T033000Z
SUMMARY:LIVE STREAM: Writing Sex &amp\; Love with Leisa Rayven
GEO:-27.471163;153.018113
LOCATION:Queensland Writers Centre\, Level 2 State Library of Queensland\, 
 South Brisbane\, Australia
END:VEVENT
END:VCALENDAR
