BEGIN:VCALENDAR
VERSION:2.0
PRODID:-//Squarespace Inc/Squarespace 6//v6//EN
BEGIN:VEVENT
UID:5dccb5658583810dbc777af9@squarespace.com
DTSTAMP:20191114T020718Z
DTSTART:20191117T003000Z
DTEND:20191117T063000Z
SUMMARY:LIVE STREAM: So\, You Think Dialogue Is Easy? with Susanne Gervay
END:VEVENT
END:VCALENDAR
