BEGIN:VCALENDAR
VERSION:2.0
PRODID:-//Squarespace Inc/Squarespace 6//v6//EN
BEGIN:VEVENT
UID:5dd20b657f96080e4ade3010@squarespace.com
DTSTAMP:20200128T023248Z
DTSTART:20200209T003000Z
DTEND:20200209T063000Z
SUMMARY:LIVE STREAM: Effective Online Writing &amp\; Editing with Kylee Bri
 stow
END:VEVENT
END:VCALENDAR
