BEGIN:VCALENDAR
VERSION:2.0
PRODID:-//Squarespace Inc/Squarespace 6//v6//EN
BEGIN:VEVENT
UID:5df0721f418ace7d6ca03fe0@squarespace.com
DTSTAMP:20191211T061749Z
DTSTART:20200213T073000Z
DTEND:20200213T090000Z
SUMMARY:How to Write Romance
GEO:-27.386215;153.034882
LOCATION:Chermside Library\, 375 Hamilton Road\, Chermside\, Australia
END:VEVENT
END:VCALENDAR
