BEGIN:VCALENDAR
VERSION:2.0
PRODID:-//Squarespace Inc/Squarespace 6//v6//EN
BEGIN:VEVENT
UID:5df078279e817831825f1d58@squarespace.com
DTSTAMP:20191211T062219Z
DTSTART:20200215T003000Z
DTEND:20200215T020000Z
SUMMARY:How to Write Romance
GEO:-27.610738;153.055601
LOCATION:Sunnybank Hills Library\, 661 Compton Road\, Queensland\, Australi
 a
END:VEVENT
END:VCALENDAR
