BEGIN:VCALENDAR
VERSION:2.0
PRODID:-//Squarespace Inc/Squarespace 6//v6//EN
BEGIN:VEVENT
UID:5e42449bc2260c75ea3026eb@squarespace.com
DTSTAMP:20200211T061510Z
DTSTART:20200530T040000Z
DTEND:20200530T053000Z
SUMMARY:Effective Online Writing 
GEO:-27.611133;153.119264
LOCATION:Logan North Library\, Corner Sports Drive and Springwood Road\, Un
 derwood QLD 4119\, Australia
END:VEVENT
END:VCALENDAR
