BEGIN:VCALENDAR
VERSION:2.0
PRODID:-//Squarespace Inc/Squarespace 6//v6//EN
BEGIN:VEVENT
UID:5dd209f96df07f49aa3f1c60@squarespace.com
DTSTAMP:20200128T023228Z
DTSTART:20200209T003000Z
DTEND:20200209T063000Z
SUMMARY:Effective Online Writing &amp\; Editing with Kylee Bristow
GEO:-27.471163;153.018113
LOCATION:Queensland Writers Centre\, Level 2 State Library of Queensland\, 
 South Brisbane\, Australia
END:VEVENT
END:VCALENDAR
