BEGIN:VCALENDAR
VERSION:2.0
PRODID:-//Squarespace Inc/Squarespace 6//v6//EN
BEGIN:VEVENT
UID:5dedd74ae46e2d0693cc4169@squarespace.com
DTSTAMP:20200204T063917Z
DTSTART:20200223T003000Z
DTEND:20200223T063000Z
SUMMARY:Critical Reading For Writers with Laurel Cohn
GEO:-27.471163;153.018113
LOCATION:Queensland Writers Centre\, Level 2 State Library Queensland\, Sou
 th Brisbane\, Australia
END:VEVENT
END:VCALENDAR
